BEGIN:VCALENDAR
VERSION:2.0
PRODID:-//Town of Billerica, MA - ECPv6.15.20//NONSGML v1.0//EN
CALSCALE:GREGORIAN
METHOD:PUBLISH
X-WR-CALNAME:Town of Billerica, MA
X-ORIGINAL-URL:https://billerica.gov
X-WR-CALDESC:Events for Town of Billerica, MA
REFRESH-INTERVAL;VALUE=DURATION:PT1H
X-Robots-Tag:noindex
X-PUBLISHED-TTL:PT1H
BEGIN:VTIMEZONE
TZID:America/New_York
BEGIN:DAYLIGHT
TZOFFSETFROM:-0500
TZOFFSETTO:-0400
TZNAME:EDT
DTSTART:20250309T070000
END:DAYLIGHT
BEGIN:STANDARD
TZOFFSETFROM:-0400
TZOFFSETTO:-0500
TZNAME:EST
DTSTART:20251102T060000
END:STANDARD
BEGIN:DAYLIGHT
TZOFFSETFROM:-0500
TZOFFSETTO:-0400
TZNAME:EDT
DTSTART:20260308T070000
END:DAYLIGHT
BEGIN:STANDARD
TZOFFSETFROM:-0400
TZOFFSETTO:-0500
TZNAME:EST
DTSTART:20261101T060000
END:STANDARD
BEGIN:DAYLIGHT
TZOFFSETFROM:-0500
TZOFFSETTO:-0400
TZNAME:EDT
DTSTART:20270314T070000
END:DAYLIGHT
BEGIN:STANDARD
TZOFFSETFROM:-0400
TZOFFSETTO:-0500
TZNAME:EST
DTSTART:20271107T060000
END:STANDARD
BEGIN:DAYLIGHT
TZOFFSETFROM:-0500
TZOFFSETTO:-0400
TZNAME:EDT
DTSTART:20280312T070000
END:DAYLIGHT
BEGIN:STANDARD
TZOFFSETFROM:-0400
TZOFFSETTO:-0500
TZNAME:EST
DTSTART:20281105T060000
END:STANDARD
BEGIN:DAYLIGHT
TZOFFSETFROM:-0500
TZOFFSETTO:-0400
TZNAME:EDT
DTSTART:20290311T070000
END:DAYLIGHT
BEGIN:STANDARD
TZOFFSETFROM:-0400
TZOFFSETTO:-0500
TZNAME:EST
DTSTART:20291104T060000
END:STANDARD
END:VTIMEZONE
BEGIN:VEVENT
DTSTART;TZID=America/New_York:20260424T090000
DTEND;TZID=America/New_York:20260424T235900
DTSTAMP:20260424T111100
CREATED:20260417T150109Z
LAST-MODIFIED:20260417T150123Z
UID:10000605-1777021200-1777075140@billerica.gov
SUMMARY:Board of Assessors
DESCRIPTION:2026-04-24 Board of Assessors Agenda
URL:https://billerica.gov/event/board-of-assessors-5/
LOCATION:https://zoom.us/j/99669397179?pwd=a3f0w23xe4vr46bIqYsRrVKBwakTPX.1
END:VEVENT
BEGIN:VEVENT
DTSTART;TZID=America/New_York:20260425T100000
DTEND;TZID=America/New_York:20260425T140000
DTSTAMP:20260424T111100
CREATED:20260422T151902Z
LAST-MODIFIED:20260422T152549Z
UID:10000611-1777111200-1777125600@billerica.gov
SUMMARY:Tree Seedling Giveaway & DEA National Drug Take Back Day - Saturday\, April 25th
DESCRIPTION:Happy Earth Day!  Two great town events happening this Saturday between 10:00 AM and 2:00 PM.  The Police Drug Take Back and the Arbor Day Tree Seedling Giveaway.  Drop off the Rx you don’t need at the Police Station Lobby\, then head to Hallenborg Ice Rink parking lot for a drive-thru pickup of a Red Maple (acer rubrum) tree seedling. \n  \nseedling flyer draft
URL:https://billerica.gov/event/tree-seedling-giveaway-saturday-april-25th/
END:VEVENT
BEGIN:VEVENT
DTSTART;TZID=America/New_York:20260427T170000
DTEND;TZID=America/New_York:20260427T170000
DTSTAMP:20260424T111100
CREATED:20260423T184500Z
LAST-MODIFIED:20260424T130008Z
UID:10000614-1777309200-1777309200@billerica.gov
SUMMARY:Select Board Meeting
DESCRIPTION:2026-04-27 Select Board Agenda \n  \n2026-04-27 Select Board Agenda Amendment #1
URL:https://billerica.gov/event/select-board-meeting-11/
LOCATION:365 Boston Road\, Conway Room\, 2nd Floor\, 365 Boston Road\, Billerica\, MA\, 01821\, United States
CATEGORIES:Select Board
END:VEVENT
BEGIN:VEVENT
DTSTART;TZID=America/New_York:20260427T180000
DTEND;TZID=America/New_York:20260427T180000
DTSTAMP:20260424T111100
CREATED:20260423T134606Z
LAST-MODIFIED:20260424T140300Z
UID:10000612-1777312800-1777312800@billerica.gov
SUMMARY:Conservation Commission Meeting
DESCRIPTION:2026-04-27 Conservation Commission Agenda \n2026-04-27 Conversation Commission Agenda (Amended)
URL:https://billerica.gov/event/conservation-commission-meeting-8/
LOCATION:Town Hall – Room 210\, 365 Boston Rd\, Billerica\, MA\, 01821\, United States
CATEGORIES:Conservation Commission
GEO:42.562896205964;-71.271439788499
X-APPLE-STRUCTURED-LOCATION;VALUE=URI;X-ADDRESS=Town Hall – Room 210 365 Boston Rd Billerica MA 01821 United States;X-APPLE-RADIUS=500;X-TITLE=365 Boston Rd:geo:-71.271439788499,42.562896205964
END:VEVENT
BEGIN:VEVENT
DTSTART;TZID=America/New_York:20260427T183000
DTEND;TZID=America/New_York:20260427T183000
DTSTAMP:20260424T111100
CREATED:20260406T175527Z
LAST-MODIFIED:20260406T175527Z
UID:10000575-1777314600-1777314600@billerica.gov
SUMMARY:Cemetery Commission Agenda
DESCRIPTION:04-27-26 Cemetery Commission Agenda
URL:https://billerica.gov/event/cemetery-commission-agenda/
END:VEVENT
BEGIN:VEVENT
DTSTART;TZID=America/New_York:20260428T100000
DTEND;TZID=America/New_York:20260428T230000
DTSTAMP:20260424T111100
CREATED:20260422T132319Z
LAST-MODIFIED:20260422T132355Z
UID:10000610-1777370400-1777417200@billerica.gov
SUMMARY:Council on Aging
DESCRIPTION:2026-04-28 Council on Aging Agenda
URL:https://billerica.gov/event/council-on-aging-4/
END:VEVENT
BEGIN:VEVENT
DTSTART;TZID=America/New_York:20260428T180000
DTEND;TZID=America/New_York:20260428T180000
DTSTAMP:20260424T111100
CREATED:20260424T145534Z
LAST-MODIFIED:20260424T145600Z
UID:10000615-1777399200-1777399200@billerica.gov
SUMMARY:School Committee Meeting
DESCRIPTION:2026-04-28 School Committee Agenda
URL:https://billerica.gov/event/school-committee-meeting-8/
LOCATION:365 Boston Road\, Town Hall\, Auditorium\, 365 Boston Road\, Billerica\, MA\, 01821\, United States
CATEGORIES:School Committee
END:VEVENT
BEGIN:VEVENT
DTSTART;TZID=America/New_York:20260429T183000
DTEND;TZID=America/New_York:20260429T183000
DTSTAMP:20260424T111100
CREATED:20260423T150238Z
LAST-MODIFIED:20260423T150244Z
UID:10000613-1777487400-1777487400@billerica.gov
SUMMARY:Committee on Rules Meeting
DESCRIPTION:2026-04-29 Committee on Rules Agenda
URL:https://billerica.gov/event/committee-on-rules-meeting/
LOCATION:365 Boston Road\, Collins Room (2nd Floor)\, 365 Boston Road\, Billerica\, MA\, 01821\, United States
END:VEVENT
BEGIN:VEVENT
DTSTART;TZID=America/New_York:20260430T150000
DTEND;TZID=America/New_York:20260430T235900
DTSTAMP:20260424T111100
CREATED:20260421T191548Z
LAST-MODIFIED:20260421T191548Z
UID:10000609-1777561200-1777593540@billerica.gov
SUMMARY:Middlesex Canal Commission
DESCRIPTION:2026-04-30 Middlesex Canal Commission Agenda
URL:https://billerica.gov/event/middlesex-canal-commission/
END:VEVENT
BEGIN:VEVENT
DTSTART;TZID=America/New_York:20260430T180000
DTEND;TZID=America/New_York:20260430T180000
DTSTAMP:20260424T111100
CREATED:20260415T134710Z
LAST-MODIFIED:20260415T134743Z
UID:10000601-1777572000-1777572000@billerica.gov
SUMMARY:School Committee
DESCRIPTION:2026-04-30 School Committee Agenda
URL:https://billerica.gov/event/school-committee-9/
LOCATION:https://billerica.gov/event/school-committee-9/
END:VEVENT
BEGIN:VEVENT
DTSTART;TZID=America/New_York:20260504T190000
DTEND;TZID=America/New_York:20260504T190000
DTSTAMP:20260424T111100
CREATED:20250227T214350Z
LAST-MODIFIED:20250609T165313Z
UID:10000063-1777921200-1777921200@billerica.gov
SUMMARY:Board of Health Meeting
DESCRIPTION:Billerica Town Hall\, Room 210\, unless otherwise noted
URL:https://billerica.gov/event/board-of-health-meeting/2026-05-04/
CATEGORIES:Board of Health,Public Meetings
END:VEVENT
BEGIN:VEVENT
DTSTART;TZID=America/New_York:20260506T170000
DTEND;TZID=America/New_York:20260506T170000
DTSTAMP:20260424T111100
CREATED:20250506T180721Z
LAST-MODIFIED:20250609T165429Z
UID:10000111-1778086800-1778086800@billerica.gov
SUMMARY:Billerica Scholarship Committee Meeting
DESCRIPTION:
URL:https://billerica.gov/event/billerica-scholarship-committee-meeting/2026-05-06/
CATEGORIES:Public Meetings,Scholarship Committee
END:VEVENT
BEGIN:VEVENT
DTSTART;TZID=America/New_York:20260506T180000
DTEND;TZID=America/New_York:20260506T180000
DTSTAMP:20260424T111100
CREATED:20260415T135206Z
LAST-MODIFIED:20260415T135206Z
UID:10000602-1778090400-1778090400@billerica.gov
SUMMARY:School Committee
DESCRIPTION:2026-05-06 School Committee Agenda
URL:https://billerica.gov/event/school-committee-10/
LOCATION:https://meet/google.com/usr-okyt-lhs
END:VEVENT
BEGIN:VEVENT
DTSTART;TZID=America/New_York:20260509T100000
DTEND;TZID=America/New_York:20260509T140000
DTSTAMP:20260424T111100
CREATED:20260421T175358Z
LAST-MODIFIED:20260421T175358Z
UID:10000607-1778320800-1778335200@billerica.gov
SUMMARY:Healthy Vibes - Spring Festival & Expo
DESCRIPTION:Healthy Vibes Flyer_BSAP
URL:https://billerica.gov/event/healthy-vibes-spring-festival-expo/
END:VEVENT
BEGIN:VEVENT
DTSTART;TZID=America/New_York:20260601T190000
DTEND;TZID=America/New_York:20260601T190000
DTSTAMP:20260424T111100
CREATED:20250227T214350Z
LAST-MODIFIED:20250609T165313Z
UID:10000064-1780340400-1780340400@billerica.gov
SUMMARY:Board of Health Meeting
DESCRIPTION:Billerica Town Hall\, Room 210\, unless otherwise noted
URL:https://billerica.gov/event/board-of-health-meeting/2026-06-01/
CATEGORIES:Board of Health,Public Meetings
END:VEVENT
BEGIN:VEVENT
DTSTART;VALUE=DATE:20260702
DTEND;VALUE=DATE:20260703
DTSTAMP:20260424T111100
CREATED:20251126T232737Z
LAST-MODIFIED:20251126T232935Z
UID:10000196-1782950400-1783036799@billerica.gov
SUMMARY:Billerica 250th Committee 250th Anniversary Celebration
DESCRIPTION:The Billerica 250th Committee is planning a once-in-a-lifetime celebration of the 250th Anniversary of the Declaration of Independence for the whole community. \nIn addition to the many smaller events we have hosted and participated in throughout the past year\, we will host a community-wide block party that will include a “Touch-a-Truck” event with vehicles from all branches of the military\, a vendor event\, a battle of the bands\, all topped off with an over-the-top fireworks display to be held in July.   \n 
URL:https://billerica.gov/event/billerica-250th-committee-250th-anniversary-celebration/
CATEGORIES:250th Committee
END:VEVENT
BEGIN:VEVENT
DTSTART;TZID=America/New_York:20260706T190000
DTEND;TZID=America/New_York:20260706T190000
DTSTAMP:20260424T111100
CREATED:20250227T214350Z
LAST-MODIFIED:20250609T165313Z
UID:10000065-1783364400-1783364400@billerica.gov
SUMMARY:Board of Health Meeting
DESCRIPTION:Billerica Town Hall\, Room 210\, unless otherwise noted
URL:https://billerica.gov/event/board-of-health-meeting/2026-07-06/
CATEGORIES:Board of Health,Public Meetings
END:VEVENT
BEGIN:VEVENT
DTSTART;TZID=America/New_York:20260803T190000
DTEND;TZID=America/New_York:20260803T190000
DTSTAMP:20260424T111100
CREATED:20250227T214350Z
LAST-MODIFIED:20250609T165313Z
UID:10000066-1785783600-1785783600@billerica.gov
SUMMARY:Board of Health Meeting
DESCRIPTION:Billerica Town Hall\, Room 210\, unless otherwise noted
URL:https://billerica.gov/event/board-of-health-meeting/2026-08-03/
CATEGORIES:Board of Health,Public Meetings
END:VEVENT
BEGIN:VEVENT
DTSTART;TZID=America/New_York:20260907T190000
DTEND;TZID=America/New_York:20260907T190000
DTSTAMP:20260424T111100
CREATED:20250227T214350Z
LAST-MODIFIED:20250609T165313Z
UID:10000067-1788807600-1788807600@billerica.gov
SUMMARY:Board of Health Meeting
DESCRIPTION:Billerica Town Hall\, Room 210\, unless otherwise noted
URL:https://billerica.gov/event/board-of-health-meeting/2026-09-07/
CATEGORIES:Board of Health,Public Meetings
END:VEVENT
BEGIN:VEVENT
DTSTART;TZID=America/New_York:20261005T190000
DTEND;TZID=America/New_York:20261005T190000
DTSTAMP:20260424T111100
CREATED:20250227T214350Z
LAST-MODIFIED:20250609T165313Z
UID:10000068-1791226800-1791226800@billerica.gov
SUMMARY:Board of Health Meeting
DESCRIPTION:Billerica Town Hall\, Room 210\, unless otherwise noted
URL:https://billerica.gov/event/board-of-health-meeting/2026-10-05/
CATEGORIES:Board of Health,Public Meetings
END:VEVENT
BEGIN:VEVENT
DTSTART;TZID=America/New_York:20261102T190000
DTEND;TZID=America/New_York:20261102T190000
DTSTAMP:20260424T111100
CREATED:20250227T214350Z
LAST-MODIFIED:20250609T165313Z
UID:10000069-1793646000-1793646000@billerica.gov
SUMMARY:Board of Health Meeting
DESCRIPTION:Billerica Town Hall\, Room 210\, unless otherwise noted
URL:https://billerica.gov/event/board-of-health-meeting/2026-11-02/
CATEGORIES:Board of Health,Public Meetings
END:VEVENT
BEGIN:VEVENT
DTSTART;TZID=America/New_York:20261207T190000
DTEND;TZID=America/New_York:20261207T190000
DTSTAMP:20260424T111100
CREATED:20250227T214350Z
LAST-MODIFIED:20250609T165313Z
UID:10000070-1796670000-1796670000@billerica.gov
SUMMARY:Board of Health Meeting
DESCRIPTION:Billerica Town Hall\, Room 210\, unless otherwise noted
URL:https://billerica.gov/event/board-of-health-meeting/2026-12-07/
CATEGORIES:Board of Health,Public Meetings
END:VEVENT
BEGIN:VEVENT
DTSTART;TZID=America/New_York:20270104T190000
DTEND;TZID=America/New_York:20270104T190000
DTSTAMP:20260424T111100
CREATED:20250227T214350Z
LAST-MODIFIED:20250609T165313Z
UID:10000071-1799089200-1799089200@billerica.gov
SUMMARY:Board of Health Meeting
DESCRIPTION:Billerica Town Hall\, Room 210\, unless otherwise noted
URL:https://billerica.gov/event/board-of-health-meeting/2027-01-04/
CATEGORIES:Board of Health,Public Meetings
END:VEVENT
BEGIN:VEVENT
DTSTART;TZID=America/New_York:20270201T190000
DTEND;TZID=America/New_York:20270201T190000
DTSTAMP:20260424T111100
CREATED:20250227T214350Z
LAST-MODIFIED:20250609T165313Z
UID:10000072-1801508400-1801508400@billerica.gov
SUMMARY:Board of Health Meeting
DESCRIPTION:Billerica Town Hall\, Room 210\, unless otherwise noted
URL:https://billerica.gov/event/board-of-health-meeting/2027-02-01/
CATEGORIES:Board of Health,Public Meetings
END:VEVENT
BEGIN:VEVENT
DTSTART;TZID=America/New_York:20270301T190000
DTEND;TZID=America/New_York:20270301T190000
DTSTAMP:20260424T111100
CREATED:20250227T214350Z
LAST-MODIFIED:20250609T165313Z
UID:10000073-1803927600-1803927600@billerica.gov
SUMMARY:Board of Health Meeting
DESCRIPTION:Billerica Town Hall\, Room 210\, unless otherwise noted
URL:https://billerica.gov/event/board-of-health-meeting/2027-03-01/
CATEGORIES:Board of Health,Public Meetings
END:VEVENT
BEGIN:VEVENT
DTSTART;TZID=America/New_York:20270405T190000
DTEND;TZID=America/New_York:20270405T190000
DTSTAMP:20260424T111100
CREATED:20250227T214350Z
LAST-MODIFIED:20250609T165313Z
UID:10000074-1806951600-1806951600@billerica.gov
SUMMARY:Board of Health Meeting
DESCRIPTION:Billerica Town Hall\, Room 210\, unless otherwise noted
URL:https://billerica.gov/event/board-of-health-meeting/2027-04-05/
CATEGORIES:Board of Health,Public Meetings
END:VEVENT
BEGIN:VEVENT
DTSTART;TZID=America/New_York:20270503T190000
DTEND;TZID=America/New_York:20270503T190000
DTSTAMP:20260424T111100
CREATED:20250227T214350Z
LAST-MODIFIED:20250609T165313Z
UID:10000075-1809370800-1809370800@billerica.gov
SUMMARY:Board of Health Meeting
DESCRIPTION:Billerica Town Hall\, Room 210\, unless otherwise noted
URL:https://billerica.gov/event/board-of-health-meeting/2027-05-03/
CATEGORIES:Board of Health,Public Meetings
END:VEVENT
BEGIN:VEVENT
DTSTART;TZID=America/New_York:20270607T190000
DTEND;TZID=America/New_York:20270607T190000
DTSTAMP:20260424T111100
CREATED:20250227T214350Z
LAST-MODIFIED:20250609T165313Z
UID:10000076-1812394800-1812394800@billerica.gov
SUMMARY:Board of Health Meeting
DESCRIPTION:Billerica Town Hall\, Room 210\, unless otherwise noted
URL:https://billerica.gov/event/board-of-health-meeting/2027-06-07/
CATEGORIES:Board of Health,Public Meetings
END:VEVENT
BEGIN:VEVENT
DTSTART;TZID=America/New_York:20270705T190000
DTEND;TZID=America/New_York:20270705T190000
DTSTAMP:20260424T111100
CREATED:20250227T214350Z
LAST-MODIFIED:20250609T165313Z
UID:10000077-1814814000-1814814000@billerica.gov
SUMMARY:Board of Health Meeting
DESCRIPTION:Billerica Town Hall\, Room 210\, unless otherwise noted
URL:https://billerica.gov/event/board-of-health-meeting/2027-07-05/
CATEGORIES:Board of Health,Public Meetings
END:VEVENT
BEGIN:VEVENT
DTSTART;TZID=America/New_York:20270802T190000
DTEND;TZID=America/New_York:20270802T190000
DTSTAMP:20260424T111100
CREATED:20250227T214350Z
LAST-MODIFIED:20250609T165313Z
UID:10000078-1817233200-1817233200@billerica.gov
SUMMARY:Board of Health Meeting
DESCRIPTION:Billerica Town Hall\, Room 210\, unless otherwise noted
URL:https://billerica.gov/event/board-of-health-meeting/2027-08-02/
CATEGORIES:Board of Health,Public Meetings
END:VEVENT
BEGIN:VEVENT
DTSTART;TZID=America/New_York:20270906T190000
DTEND;TZID=America/New_York:20270906T190000
DTSTAMP:20260424T111100
CREATED:20250227T214350Z
LAST-MODIFIED:20250609T165313Z
UID:10000079-1820257200-1820257200@billerica.gov
SUMMARY:Board of Health Meeting
DESCRIPTION:Billerica Town Hall\, Room 210\, unless otherwise noted
URL:https://billerica.gov/event/board-of-health-meeting/2027-09-06/
CATEGORIES:Board of Health,Public Meetings
END:VEVENT
BEGIN:VEVENT
DTSTART;TZID=America/New_York:20271004T190000
DTEND;TZID=America/New_York:20271004T190000
DTSTAMP:20260424T111100
CREATED:20250227T214350Z
LAST-MODIFIED:20250609T165313Z
UID:10000080-1822676400-1822676400@billerica.gov
SUMMARY:Board of Health Meeting
DESCRIPTION:Billerica Town Hall\, Room 210\, unless otherwise noted
URL:https://billerica.gov/event/board-of-health-meeting/2027-10-04/
CATEGORIES:Board of Health,Public Meetings
END:VEVENT
BEGIN:VEVENT
DTSTART;TZID=America/New_York:20271101T190000
DTEND;TZID=America/New_York:20271101T190000
DTSTAMP:20260424T111100
CREATED:20250227T214350Z
LAST-MODIFIED:20250609T165313Z
UID:10000081-1825095600-1825095600@billerica.gov
SUMMARY:Board of Health Meeting
DESCRIPTION:Billerica Town Hall\, Room 210\, unless otherwise noted
URL:https://billerica.gov/event/board-of-health-meeting/2027-11-01/
CATEGORIES:Board of Health,Public Meetings
END:VEVENT
BEGIN:VEVENT
DTSTART;TZID=America/New_York:20271206T190000
DTEND;TZID=America/New_York:20271206T190000
DTSTAMP:20260424T111100
CREATED:20250227T214350Z
LAST-MODIFIED:20250609T165313Z
UID:10000082-1828119600-1828119600@billerica.gov
SUMMARY:Board of Health Meeting
DESCRIPTION:Billerica Town Hall\, Room 210\, unless otherwise noted
URL:https://billerica.gov/event/board-of-health-meeting/2027-12-06/
CATEGORIES:Board of Health,Public Meetings
END:VEVENT
BEGIN:VEVENT
DTSTART;TZID=America/New_York:20280103T190000
DTEND;TZID=America/New_York:20280103T190000
DTSTAMP:20260424T111100
CREATED:20250227T214350Z
LAST-MODIFIED:20250609T165313Z
UID:10000083-1830538800-1830538800@billerica.gov
SUMMARY:Board of Health Meeting
DESCRIPTION:Billerica Town Hall\, Room 210\, unless otherwise noted
URL:https://billerica.gov/event/board-of-health-meeting/2028-01-03/
CATEGORIES:Board of Health,Public Meetings
END:VEVENT
BEGIN:VEVENT
DTSTART;TZID=America/New_York:20280207T190000
DTEND;TZID=America/New_York:20280207T190000
DTSTAMP:20260424T111100
CREATED:20250227T214350Z
LAST-MODIFIED:20250609T165313Z
UID:10000084-1833562800-1833562800@billerica.gov
SUMMARY:Board of Health Meeting
DESCRIPTION:Billerica Town Hall\, Room 210\, unless otherwise noted
URL:https://billerica.gov/event/board-of-health-meeting/2028-02-07/
CATEGORIES:Board of Health,Public Meetings
END:VEVENT
BEGIN:VEVENT
DTSTART;TZID=America/New_York:20280306T190000
DTEND;TZID=America/New_York:20280306T190000
DTSTAMP:20260424T111100
CREATED:20250227T214350Z
LAST-MODIFIED:20250609T165313Z
UID:10000085-1835982000-1835982000@billerica.gov
SUMMARY:Board of Health Meeting
DESCRIPTION:Billerica Town Hall\, Room 210\, unless otherwise noted
URL:https://billerica.gov/event/board-of-health-meeting/2028-03-06/
CATEGORIES:Board of Health,Public Meetings
END:VEVENT
END:VCALENDAR